BEGIN:VCALENDAR
VERSION:2.0
PRODID:-//Friendship League - ECPv6.15.15//NONSGML v1.0//EN
CALSCALE:GREGORIAN
METHOD:PUBLISH
X-ORIGINAL-URL:https://friendshipleague.org
X-WR-CALDESC:Events for Friendship League
REFRESH-INTERVAL;VALUE=DURATION:PT1H
X-Robots-Tag:noindex
X-PUBLISHED-TTL:PT1H
BEGIN:VTIMEZONE
TZID:Asia/Taipei
BEGIN:STANDARD
TZOFFSETFROM:+0800
TZOFFSETTO:+0800
TZNAME:CST
DTSTART:20250101T000000
END:STANDARD
END:VTIMEZONE
BEGIN:VEVENT
DTSTART;VALUE=DATE:20260414
DTEND;VALUE=DATE:20260421
DTSTAMP:20260420T152445
CREATED:20251231T054509Z
LAST-MODIFIED:20260406T034039Z
UID:10000030-1776124800-1776729599@friendshipleague.org
SUMMARY:You're Invited: Celebrate 10 Years of Friendship League in Taipei City! - click here for details!
DESCRIPTION:[vc_row type=”in_container” full_screen_row_position=”middle” column_margin=”default” column_direction=”default” column_direction_tablet=”default” column_direction_phone=”default” scene_position=”center” text_color=”dark” text_align=”left” row_border_radius=”none” row_border_radius_applies=”bg” row_position_desktop=”default” row_position_tablet=”inherit” row_position_phone=”inherit” overflow=”visible” overlay_strength=”0.3″ gradient_direction=”left_to_right” shape_divider_position=”bottom” bg_image_animation=”none”][vc_column column_padding=”no-extra-padding” column_padding_tablet=”inherit” column_padding_phone=”inherit” column_padding_position=”all” flex_gap_desktop=”10px” column_element_direction_desktop=”default” column_element_spacing=”default” desktop_text_alignment=”default” tablet_text_alignment=”default” phone_text_alignment=”default” background_color_opacity=”1″ background_hover_color_opacity=”1″ column_backdrop_filter=”none” column_shadow=”none” column_border_radius=”none” column_link_target=”_self” column_position=”default” gradient_direction=”left_to_right” overlay_strength=”0.3″ width=”1/1″ tablet_width_inherit=”default” animation_type=”default” bg_image_animation=”none” border_type=”simple” column_border_width=”none” column_border_style=”solid”][vc_column_text css=”” text_direction=”default”]10 Years of Friendship League – “Sport Connects Us\, Friendship Defines Us” \nA DECADE OF FRIENDSHIP\, A WORLD OF HOCKEY 🏒🌍 \nWhat began as a scrappy tourist organization with a bold vision has grown into a global movement… \nTen years ago\, a simple idea took flight: to connect the world through the sport we love. Our very first journey took us to North Korea\, an unforgettable start to a decade of Adventure. \nWho could have imagined that since then we’d lace up our skates in places as diverse and fascinating as Turkmenistan\, Egypt\, Argentina\, Peru\, Mexico\, Ecuador\, Kenya\, South Africa\, Viet Nam\, Kyrgyzstan\, Japan\, and Mongolia? Each destination has brought new friendships\, thrilling games\, and surprises that remind us why we started this journey in the first place. \nNow\, it’s time to celebrate this milestone… together![/vc_column_text][/vc_column][/vc_row][vc_row type=”in_container” full_screen_row_position=”middle” column_margin=”default” column_direction=”default” column_direction_tablet=”default” column_direction_phone=”default” scene_position=”center” text_color=”dark” text_align=”left” row_border_radius=”none” row_border_radius_applies=”bg” row_position_desktop=”default” row_position_tablet=”inherit” row_position_phone=”inherit” overflow=”visible” overlay_strength=”0.3″ gradient_direction=”left_to_right” shape_divider_position=”bottom” bg_image_animation=”none”][vc_column column_padding=”no-extra-padding” column_padding_tablet=”inherit” column_padding_phone=”inherit” column_padding_position=”all” flex_gap_desktop=”10px” column_element_direction_desktop=”default” column_element_spacing=”default” desktop_text_alignment=”default” tablet_text_alignment=”default” phone_text_alignment=”default” background_color_opacity=”1″ background_hover_color_opacity=”1″ column_backdrop_filter=”none” column_shadow=”none” column_border_radius=”none” column_link_target=”_self” column_position=”default” gradient_direction=”left_to_right” overlay_strength=”0.3″ width=”1/1″ tablet_width_inherit=”default” animation_type=”default” bg_image_animation=”none” border_type=”simple” column_border_width=”none” column_border_style=”solid”][toggles style=”default” border_radius=”none”][toggle color=”Default” heading_tag=”default” heading_tag_functionality=”default” title=”Sport Highlights”][vc_column_text css=”” text_direction=”default”]\n\nAt least four friendly hockey games with local team(s).\nGames at different rinks to add to the experience.\nOpportunities to connect with Taipei players and coaches—sharing skills\, stories\, and post-game camaraderie.\nHelp coach at camps organized while the Friendship League is there\n\n[/vc_column_text][vc_column_text][/vc_column_text][/toggle][toggle color=”Default” heading_tag=”default” heading_tag_functionality=”default” title=”Activity Highlights”][vc_column_text css=”” text_direction=”default”]The trip starts early afternoon of April 14\, 2026 with all departing on April 20\, 2026. \nJoin us for a special edition journey that blends everything you love about Friendship League including: \n\nFast-paced hockey in East Asia\, play friendly games with local teams and coaches in a thriving hockey community.\nCity tour of Taipei to discover one of Asia’s most dynamic\, safe\, and convenient capitals.\nCultural immersion: From night markets to serene temples\, experience Taipei’s rich traditions and warm hospitality.\nCharge up Elephant Mountain and watch Taipei explode into view with every step you climb.\nYou will sit back by a glowing indoor pool\, reel in your own shrimp\, and grill them on the spot for the most delightfully quirky Taipei night out. Bragging rights go to those who catch the most!\nWander through misty mountain towns like Shifen and Jiufen\, where lanterns glow\, alleys twist\, and every corner feels like stepping into a story.\nExperience the thrill of Dragon Boating firsthand — you’re not just watching dragon boating\, you actually get to jump in and paddle with your team.\n\nPlus\, there is a surprise activity waiting to shake up your day! \nThis is more than a trip… it’s a thank-you to everyone who has been part of our story and an invitation to help write the next chapter. This promises to be unforgettable! A rare mix of sport\, culture\, and exploration that embodies everything the Friendship League stands for.[/vc_column_text][vc_column_text][/vc_column_text][/toggle][toggle color=”Default” heading_tag=”default” heading_tag_functionality=”default” title=”Stuff Happens. Or Doesn’t”][vc_column_text]*Upon registration you will receive a detailed information package to help you plan for the trip. If you have any questions before registration\, please reach out to contact@friendshipleague.org. \n**Disclaimer – Our events are generally built around the availability of ice time in the host country. In many countries\, we are unable to confirm the exact ice times until a few months before the event due to local booking processes. For this reason\, some of the activities may change slightly to accommodate the on ice activities.[/vc_column_text][vc_column_text][/vc_column_text][/toggle][toggle color=”Default” heading_tag=”default” heading_tag_functionality=”default” title=”What is and What Isn’t Included In Your Fee”][vc_column_text css=”” text_direction=”default”]\nIncluded:\n\nAll hockey ice time\nLocal and international guides\nIn-country transportation as listed in the itinerary\n4 Star Hotel accommodation (based on double-occupancy\, additional fees will apply for single rooms)\nAll group meals during tour\nTourist activity and entry fees\nPre-trip support and guidance\nA ticket to the final friendship event\n\nNot Included:\n\nAdditional drinks and snacks not included in package\nVisa fees\nTravel insurance\nTransport to and from the tour meeting and end points\nTips for local guides\n\n[/vc_column_text][/toggle][toggle color=”Default” heading_tag=”default” heading_tag_functionality=”default” title=”Why You Shouldn’t Miss It”][vc_column_text css=”” text_direction=”default”]✅ Celebrate 10 years of global hockey adventures alongside old friends and new teammates. \n✅ Experience Taipei City like never before\, on the ice and off\, enjoy the city’s rich traditions and stunning surroundings. \n✅ Be part of a historic trip: the first Friendship League anniversary celebration in East Asia. \n✅ Travel with confidence: Taipei is known for its safety\, convenience\, and incredible food.[/vc_column_text][/toggle][toggle color=”Default” heading_tag=”default” heading_tag_functionality=”default” title=”Reserve Your Spot and Be Part of History”][vc_column_text css=”” text_direction=”default”]\nSecure your place in this milestone celebration today as we believe that “Sport Connects Us\, Friendship Defines Us” \n  \nLace up\, bring your curiosity\, and let’s make history together! Be ready for a bunch of friendly hockey games with local team(s) with opportunities to connect with Taipei players and coaches\, sharing skills\, stories\, and post-game camaraderie. \n  \nSpaces are limited for this once-in-a-decade trip. \nDon’t just witness the celebration\, be in the middle of it. \n[/vc_column_text][/toggle][/toggles][/vc_column][/vc_row]
URL:https://friendshipleague.org/event/youre-invited-celebrate-10-years-of-friendship-league-in-taipei-city-click-here-for-details/
LOCATION:Taipei
CATEGORIES:Ice Hockey
ATTACH;FMTTYPE=image/jpeg:https://friendshipleague.org/wp-content/uploads/2025/12/Taipei-City.jpg
ORGANIZER;CN="The Friendship League":MAILTO:contact@friendshipleague.org
END:VEVENT
END:VCALENDAR