BEGIN:VCALENDAR
VERSION:2.0
PRODID:-//Friendship League - ECPv6.15.15//NONSGML v1.0//EN
CALSCALE:GREGORIAN
METHOD:PUBLISH
X-WR-CALNAME:Friendship League
X-ORIGINAL-URL:https://friendshipleague.org
X-WR-CALDESC:Events for Friendship League
REFRESH-INTERVAL;VALUE=DURATION:PT1H
X-Robots-Tag:noindex
X-PUBLISHED-TTL:PT1H
BEGIN:VTIMEZONE
TZID:Asia/Bishkek
BEGIN:STANDARD
TZOFFSETFROM:+0600
TZOFFSETTO:+0600
TZNAME:+06
DTSTART:20240101T000000
END:STANDARD
END:VTIMEZONE
BEGIN:VEVENT
DTSTART;VALUE=DATE:20251215
DTEND;VALUE=DATE:20251222
DTSTAMP:20260419T035036
CREATED:20251004T200048Z
LAST-MODIFIED:20251203T223157Z
UID:10000028-1765756800-1766361599@friendshipleague.org
SUMMARY:Kyrgyzstan Ice Hockey Experience 2025 - click here for details!
DESCRIPTION:[vc_row type=”in_container” full_screen_row_position=”middle” column_margin=”default” column_direction=”default” column_direction_tablet=”default” column_direction_phone=”default” scene_position=”center” text_color=”dark” text_align=”left” row_border_radius=”none” row_border_radius_applies=”bg” overflow=”visible” overlay_strength=”0.3″ gradient_direction=”left_to_right” shape_divider_position=”bottom” bg_image_animation=”none”][vc_column column_padding=”no-extra-padding” column_padding_tablet=”inherit” column_padding_phone=”inherit” column_padding_position=”all” column_element_spacing=”default” background_color_opacity=”1″ background_hover_color_opacity=”1″ column_shadow=”none” column_border_radius=”none” column_link_target=”_self” column_position=”default” gradient_direction=”left_to_right” overlay_strength=”0.3″ width=”1/1″ tablet_width_inherit=”default” tablet_text_alignment=”default” phone_text_alignment=”default” animation_type=”default” bg_image_animation=”none” border_type=”simple” column_border_width=”none” column_border_style=”solid”][vc_column_text]Get ready for an unforgettable week in Bishkek\, Kyrgyzstan—where icy competition meets warm hospitality and rich cultural immersion. From when we start on December 15 to when you fly home on December 21\, 2025\, this unique trip blends the thrill of playing hockey in Central Asia with time to explore the vibrant capital and its surrounding winter landscapes. \nWhether you’re chasing pucks or chasing sunsets over the Tien Shan mountains\, this trip offers a rare blend of sport\, culture\, and winter magic. Lace up your skates—and bring your enthusiasm and cultural curiosity—and experience Bishkek like never before. \nBook your spot by purchasing your experience below or contact Scott@friendshipleague.org if you want to reserve your spot. Don’t miss this amazing opportunity to help grow hockey in beautiful Bishkek![/vc_column_text][/vc_column][/vc_row][vc_row type=”in_container” full_screen_row_position=”middle” column_margin=”default” column_direction=”default” column_direction_tablet=”default” column_direction_phone=”default” scene_position=”center” text_color=”dark” text_align=”left” row_border_radius=”none” row_border_radius_applies=”bg” overflow=”visible” overlay_strength=”0.3″ gradient_direction=”left_to_right” shape_divider_position=”bottom” bg_image_animation=”none”][vc_column column_padding=”no-extra-padding” column_padding_tablet=”inherit” column_padding_phone=”inherit” column_padding_position=”all” column_element_spacing=”default” background_color_opacity=”1″ background_hover_color_opacity=”1″ column_shadow=”none” column_border_radius=”none” column_link_target=”_self” column_position=”default” gradient_direction=”left_to_right” overlay_strength=”0.3″ width=”1/1″ tablet_width_inherit=”default” tablet_text_alignment=”default” phone_text_alignment=”default” animation_type=”default” bg_image_animation=”none” border_type=”simple” column_border_width=”none” column_border_style=”solid”][toggles style=”default”][toggle color=”Default” heading_tag=”default” title=”Sport Highlights”][vc_column_text]\n\nAt least three friendly hockey games with local team(s).\nOpportunities to connect with Kyrgyz players and coaches—sharing skills\, stories\, and post-game camaraderie.\nHelp coach at youth camps organized to build hockey while the Friendship League is there\nPotential outdoor skating sessions\, weather permitting.\n\n  \n[/vc_column_text][vc_column_text][/vc_column_text][/toggle][toggle color=”Default” heading_tag=”default” title=”Activity Highlights”][vc_column_text]\n\nCity tours featuring Ala-Too Square\, the State History Museum\, and Soviet-era architecture.\nCraft beer tastings and cozy cafés tucked into walkable neighborhoods.\nOsh Bazaar for vibrant spices\, textiles\, and souvenirs.\nVisit to a traditional Kyrgyz bathhouse (banya).\nMore activities are being confirmed.\nAs always\, we have a surprise activity that you don’t want to miss.\nMix with your new hockey friends at the wrap up banquet.\n\n  \n[/vc_column_text][vc_column_text][/vc_column_text][/toggle][toggle color=”Default” heading_tag=”default” title=”Stuff Happens. Or Doesn’t”][vc_column_text]*Upon registration you will receive a detailed information package to help you plan for the trip. If you have any questions before registration\, please reach out to contact@friendshipleague.org. \n**Disclaimer – Our events are generally built around the availability of ice time in the host country. In many countries\, we are unable to confirm the exact ice times until a few months before the event due to local booking processes. For this reason\, some of the activities may change slightly to accommodate the on ice activities.[/vc_column_text][vc_column_text][/vc_column_text][/toggle][toggle color=”Default” heading_tag=”default” title=”What is and What Isn’t Included In Your Fee”][vc_column_text]\nIncluded:\n\nAll hockey ice time\nLocal and international guides\nIn-country transportation as listed in the itinerary\nAll accommodation (based on double-occupancy\, additional fees will apply for single rooms)\nAll group meals during tour\nTourist activity and entry fees\nPre-trip support and guidance\nA ticket to the final banquet\n\nNot Included:\n\nAdditional drinks and snacks not included in package\nVisa fees\nTravel insurance\nTransport to and from the tour meeting and end points\nTips for local guides\n\n[/vc_column_text][/toggle][/toggles][/vc_column][/vc_row]
URL:https://friendshipleague.org/event/kyrgyzstan-ice-hockey-experience-2025-click-here-for-details/
LOCATION:Bishkek\, Kyrgyzstan
CATEGORIES:Ice Hockey
END:VEVENT
END:VCALENDAR